BEGIN:VCALENDAR
VERSION:2.0
PRODID:-//Gesundheitstreff TuWas! - ECPv6.15.11//NONSGML v1.0//EN
CALSCALE:GREGORIAN
METHOD:PUBLISH
X-WR-CALNAME:Gesundheitstreff TuWas!
X-ORIGINAL-URL:https://gesundheitstreff-tuwas.de
X-WR-CALDESC:Veranstaltungen für Gesundheitstreff TuWas!
REFRESH-INTERVAL;VALUE=DURATION:PT1H
X-Robots-Tag:noindex
X-PUBLISHED-TTL:PT1H
BEGIN:VTIMEZONE
TZID:Europe/Berlin
BEGIN:DAYLIGHT
TZOFFSETFROM:+0100
TZOFFSETTO:+0200
TZNAME:CEST
DTSTART:20250330T010000
END:DAYLIGHT
BEGIN:STANDARD
TZOFFSETFROM:+0200
TZOFFSETTO:+0100
TZNAME:CET
DTSTART:20251026T010000
END:STANDARD
BEGIN:DAYLIGHT
TZOFFSETFROM:+0100
TZOFFSETTO:+0200
TZNAME:CEST
DTSTART:20260329T010000
END:DAYLIGHT
BEGIN:STANDARD
TZOFFSETFROM:+0200
TZOFFSETTO:+0100
TZNAME:CET
DTSTART:20261025T010000
END:STANDARD
BEGIN:DAYLIGHT
TZOFFSETFROM:+0100
TZOFFSETTO:+0200
TZNAME:CEST
DTSTART:20270328T010000
END:DAYLIGHT
BEGIN:STANDARD
TZOFFSETFROM:+0200
TZOFFSETTO:+0100
TZNAME:CET
DTSTART:20271031T010000
END:STANDARD
END:VTIMEZONE
BEGIN:VEVENT
DTSTART;TZID=Europe/Berlin:20260422T190000
DTEND;TZID=Europe/Berlin:20260422T200000
DTSTAMP:20260422T032232
CREATED:20260107T183842Z
LAST-MODIFIED:20260420T203606Z
UID:16422-1776884400-1776888000@gesundheitstreff-tuwas.de
SUMMARY:WASSER2000-Onlinevortrag im April:  Gesund und fit durch Wassertrinken!  Kalkprobleme im Haushalt lösen!
DESCRIPTION:Erleben Sie beim WASSER2000-Onlinevortrag spannende Einblicke rund um das Thema: „Gesund und fit durch Wassertrinken und Kalkprobleme im Haushalt lösen!“.\nWasser ist unser Lebensmittel Nr. 1!\nWarum ist dessen Vitalität und Lebendigkeit so wichtig für Ihr Wohlbefinden? \nErfahren Sie\, wie das jahrzehntelang bewährte WASSER2000-System von NaturSinn Ihr Leitungswasser vitalisiert und ganz nebenbei sogar Kalkprobleme in Küche\, Bad und Haustechnik lösen kann. \n \n \n\n\n\n\n\nReferent: Frank Servos\n(Geschäftsführer NaturSinn International KG) \n\n\nEintritt: kostenfrei  (ZOOM-Meeting: ca. 1 Stunde + Fragen/Antworten)\n\n\n  \n\n\n\n\n       \n \n\n\n\nDie bewährte Premiumlösung für vitalisiertes\, lebendiges Wasser aus Ihrer Leitung. \n Natürliche Wasseraufbereitung für optimiertes Kalkverhalten\nohne Chemie\, Strom und Magnetismus. \nEinfache Montage ohne Eingriff in Ihre Rohrleitung – wartungsfrei.\nRisikofreier Kauf mit 90 Tagen Rückgabegarantie. \n \n \n\n  \n\nRein\, vital\, kalkfrei – neugierig auf lebendiges Wasser?\nMelden Sie sich jetzt an – erleben Sie im Onlinevortrag\,\nwie WASSER2000 Ihren Alltag positiv verändern kann! \n   Jetzt anmelden »  \n\n„Jetzt anmelden“ führt Sie zur Anmeldung für das GESUNDHEITS-TREFFEN!
URL:https://gesundheitstreff-tuwas.de/veranstaltungskalender/wasser2000-onlinevortrag-im-april-gesund-und-fit-durch-wassertrinken-kalkprobleme-im-haushalt-loesen/
ATTACH;FMTTYPE=image/jpeg:https://gesundheitstreff-tuwas.de/wp-content/uploads/2025/06/WASSER2000_Onlinevortrag.jpg
END:VEVENT
END:VCALENDAR