BEGIN:VCALENDAR
VERSION:2.0
PRODID:-//Gesundheitstreff TuWas! - ECPv6.15.11//NONSGML v1.0//EN
CALSCALE:GREGORIAN
METHOD:PUBLISH
X-WR-CALNAME:Gesundheitstreff TuWas!
X-ORIGINAL-URL:https://gesundheitstreff-tuwas.de
X-WR-CALDESC:Veranstaltungen für Gesundheitstreff TuWas!
REFRESH-INTERVAL;VALUE=DURATION:PT1H
X-Robots-Tag:noindex
X-PUBLISHED-TTL:PT1H
BEGIN:VTIMEZONE
TZID:Europe/Berlin
BEGIN:DAYLIGHT
TZOFFSETFROM:+0100
TZOFFSETTO:+0200
TZNAME:CEST
DTSTART:20250330T010000
END:DAYLIGHT
BEGIN:STANDARD
TZOFFSETFROM:+0200
TZOFFSETTO:+0100
TZNAME:CET
DTSTART:20251026T010000
END:STANDARD
BEGIN:DAYLIGHT
TZOFFSETFROM:+0100
TZOFFSETTO:+0200
TZNAME:CEST
DTSTART:20260329T010000
END:DAYLIGHT
BEGIN:STANDARD
TZOFFSETFROM:+0200
TZOFFSETTO:+0100
TZNAME:CET
DTSTART:20261025T010000
END:STANDARD
BEGIN:DAYLIGHT
TZOFFSETFROM:+0100
TZOFFSETTO:+0200
TZNAME:CEST
DTSTART:20270328T010000
END:DAYLIGHT
BEGIN:STANDARD
TZOFFSETFROM:+0200
TZOFFSETTO:+0100
TZNAME:CET
DTSTART:20271031T010000
END:STANDARD
END:VTIMEZONE
BEGIN:VEVENT
DTSTART;TZID=Europe/Berlin:20260423T190000
DTEND;TZID=Europe/Berlin:20260423T210000
DTSTAMP:20260423T013418
CREATED:20260420T204130Z
LAST-MODIFIED:20260420T211458Z
UID:16762-1776970800-1776978000@gesundheitstreff-tuwas.de
SUMMARY:Kräuter-Abend im April: Frühling lässt sein blaues Band … und seine Kräuter sprießen!
DESCRIPTION:Erleben Sie ein Kräuter-Abend zum Thema: „Frühling lässt sein blaues Band … und seine Kräuter sprießen!“\n\nEntdecken Sie den Zauber der Frühlingskräuter für Ihre neue Frische und Vitalität. Warum bereichern frische Kräuter als Getränk oder in unserer täglichen Ernährung unser Leben und unsere Gesundheit? Welche Kräuter stärken die Leber\, welche das Herz\, welche das Gehirn? Lassen Sie sich begeistern und motivieren\, den Kräuterzauber zu entdecken. Ich bin dabei – sind Sie es auch? \n Ich freue mich auf unseren gemeinsamen Abend\nmit diesem wichtigen Thema.   \n \n \n\n\n\n\n\n\nReferentin: Gertrud Theresia Lehner-Laiß\n (Kräuterexpertin\, Gesundheits- und Ernährungsberaterin) \n\n\nTeilnahmegebühr: 40 € (inkl. Getränke und Manuskript)\n\n\n\nWenn der Frühling erwacht – möchten Sie den Kräuterzauber entdecken?\nMelden Sie sich jetzt an und erleben Sie neue Frische für Ihre Gesundheit. \n   Jetzt anmelden »  \n\n„Jetzt anmelden“ führt Sie zur Anmeldung für das GESUNDHEITS-TREFFEN!
URL:https://gesundheitstreff-tuwas.de/veranstaltungskalender/kraeuter-abend-im-april-fruehling-laesst-sein-blaues-band-und-seine-kraeuter-spriessen/
LOCATION:Gesundheitstreff TuWas! (Eingang Brunnengasse)\, Bietigheimer Str. 16\, Ingersheim\, 74379
ATTACH;FMTTYPE=image/png:https://gesundheitstreff-tuwas.de/wp-content/uploads/2026/04/Gesundheits-Treffen-vorschau-Wiederhergestellt.png
END:VEVENT
END:VCALENDAR