BEGIN:VCALENDAR
VERSION:2.0
PRODID:-//Gesundheitstreff TuWas! - ECPv6.15.11//NONSGML v1.0//EN
CALSCALE:GREGORIAN
METHOD:PUBLISH
X-WR-CALNAME:Gesundheitstreff TuWas!
X-ORIGINAL-URL:https://gesundheitstreff-tuwas.de
X-WR-CALDESC:Veranstaltungen für Gesundheitstreff TuWas!
REFRESH-INTERVAL;VALUE=DURATION:PT1H
X-Robots-Tag:noindex
X-PUBLISHED-TTL:PT1H
BEGIN:VTIMEZONE
TZID:Europe/Berlin
BEGIN:DAYLIGHT
TZOFFSETFROM:+0100
TZOFFSETTO:+0200
TZNAME:CEST
DTSTART:20210328T010000
END:DAYLIGHT
BEGIN:STANDARD
TZOFFSETFROM:+0200
TZOFFSETTO:+0100
TZNAME:CET
DTSTART:20211031T010000
END:STANDARD
BEGIN:DAYLIGHT
TZOFFSETFROM:+0100
TZOFFSETTO:+0200
TZNAME:CEST
DTSTART:20220327T010000
END:DAYLIGHT
BEGIN:STANDARD
TZOFFSETFROM:+0200
TZOFFSETTO:+0100
TZNAME:CET
DTSTART:20221030T010000
END:STANDARD
BEGIN:DAYLIGHT
TZOFFSETFROM:+0100
TZOFFSETTO:+0200
TZNAME:CEST
DTSTART:20230326T010000
END:DAYLIGHT
BEGIN:STANDARD
TZOFFSETFROM:+0200
TZOFFSETTO:+0100
TZNAME:CET
DTSTART:20231029T010000
END:STANDARD
END:VTIMEZONE
BEGIN:VEVENT
DTSTART;TZID=Europe/Berlin:20220713T193000
DTEND;TZID=Europe/Berlin:20220713T210000
DTSTAMP:20260423T035803
CREATED:20220530T150022Z
LAST-MODIFIED:20220726T151327Z
UID:13107-1657740600-1657746000@gesundheitstreff-tuwas.de
SUMMARY:TuWas!-Onlinevortrag: Magen und Darm  – unsere Verdauungszentrale Wie kann ich sie stärken?
DESCRIPTION:Vortrags-Inhalt:\nIn unserem Körper arbeiten alle Organe wie ein präzises Zahnrad zusammen.\nJedes Organ arbeitet in seiner Aufgabe. Beim Magen und Darm ist die Zusammenarbeit\nbesonders wichtig\, weil sie im „Verdauungstrakt“ eine Einheit bilden.\nDer Magen übernimmt in der Verdauungsarbeit eine besonders schwierige Aufgabe\,\ner leistet „ohne Zähne“ die Vorverdauung für den Darm. Je besser der vorverdaute\nBrei vom Magen in die weiteren Abschnitte des Darmes gelangt\, desto besser kann dieser\ndie Verdauungsarbeit leisten. „Gut gekaut ist halb verdaut“.\nDer Darm hat mit seinen Teilabschnitten: Zwölffinger-\, Dünn- Dick- und Mastdarm verschiedene\nAufgaben der Verdauungsvorgänge zu meistern. Das Thema Verdauung ist ein unvorstellbares\nwichtiges Thema. \nIn diesem Vortrag zeige ich Ihnen die goldenen Schlüssel für einen leistungsstarken und\ngesunden Magen und für einen gesunden Darm.   \nOrdnung in der Ernährung – was heißt das?\nGutes für den Magen\,\nwichtiges für den Darm.\nWas heißt Darmsanierung und wie geht das?\nWelche Bedeutung hat Wassertrinken?\nEs gibt so viele Beschwerden\, die uns plagen können. Völlegefühl\, Sodbrennen\, saures\nAufstoßen\, träger Darm\, Reizdarm\, Blähungen\, Durchfall\, Verstopfung und vieles mehr.   \nEs ist gut zu wissen\, was wann hilfreich ist.\nNach dem Vortrag wissen Sie\, was Sie tun können\, damit es Ihnen rundum gut geht und Sie\nSich jeden Tag wohl fühlen.  \n\n\n\n\n Anleitung lesen »\n\n \n\n\n\n Ticket buchen »\n\n \n\n\n\n Ticket Übersicht »
URL:https://gesundheitstreff-tuwas.de/veranstaltungskalender/tuwas-onlinevortrag-magen-und-darm-unsere-verdauungszentrale-wie-kann-ich-sie-staerken/
END:VEVENT
BEGIN:VEVENT
DTSTART;TZID=Europe/Berlin:20220721T190000
DTEND;TZID=Europe/Berlin:20220721T200000
DTSTAMP:20260423T035803
CREATED:20220530T151149Z
LAST-MODIFIED:20220530T151149Z
UID:13113-1658430000-1658433600@gesundheitstreff-tuwas.de
SUMMARY:WASSER2000-Onlinevortrag: Gesund und fit durch Wassertrinken!
DESCRIPTION:Vortrags-Inhalt:\nGesund und fit durch Wassertrinken! Kalkprobleme im Haushalt lösen! Wasser ist unser Lebensmittel Nr. 1! Warum ist dessen Vitalität und Lebendigkeit so wichtig für Ihr Wohlbefinden? Erfahren Sie\, wie das jahrzehntelang bewährte WASSER2000-System von NaturSinn Ihr Leitungswasser vitalisiert und ganz nebenbei sogar Kalkprobleme in Küche\, Bad und Haustechnik lösen kann. \nAnmeldung zum ZOOM-Meeting\nund Anleitung auf www.vortrag.wasser2000.de
URL:https://gesundheitstreff-tuwas.de/veranstaltungskalender/wasser2000-onlinevortrag-gesund-und-fit-durch-wassertrinken-7/
END:VEVENT
END:VCALENDAR