BEGIN:VCALENDAR
VERSION:2.0
PRODID:-//Gesundheitstreff TuWas! - ECPv6.15.11//NONSGML v1.0//EN
CALSCALE:GREGORIAN
METHOD:PUBLISH
X-ORIGINAL-URL:https://gesundheitstreff-tuwas.de
X-WR-CALDESC:Veranstaltungen für Gesundheitstreff TuWas!
REFRESH-INTERVAL;VALUE=DURATION:PT1H
X-Robots-Tag:noindex
X-PUBLISHED-TTL:PT1H
BEGIN:VTIMEZONE
TZID:Europe/Berlin
BEGIN:DAYLIGHT
TZOFFSETFROM:+0100
TZOFFSETTO:+0200
TZNAME:CEST
DTSTART:20210328T010000
END:DAYLIGHT
BEGIN:STANDARD
TZOFFSETFROM:+0200
TZOFFSETTO:+0100
TZNAME:CET
DTSTART:20211031T010000
END:STANDARD
BEGIN:DAYLIGHT
TZOFFSETFROM:+0100
TZOFFSETTO:+0200
TZNAME:CEST
DTSTART:20220327T010000
END:DAYLIGHT
BEGIN:STANDARD
TZOFFSETFROM:+0200
TZOFFSETTO:+0100
TZNAME:CET
DTSTART:20221030T010000
END:STANDARD
BEGIN:DAYLIGHT
TZOFFSETFROM:+0100
TZOFFSETTO:+0200
TZNAME:CEST
DTSTART:20230326T010000
END:DAYLIGHT
BEGIN:STANDARD
TZOFFSETFROM:+0200
TZOFFSETTO:+0100
TZNAME:CET
DTSTART:20231029T010000
END:STANDARD
END:VTIMEZONE
BEGIN:VEVENT
DTSTART;TZID=Europe/Berlin:20220907T193000
DTEND;TZID=Europe/Berlin:20220907T210000
DTSTAMP:20260423T013008
CREATED:20220530T150707Z
LAST-MODIFIED:20220726T151817Z
UID:13109-1662579000-1662584400@gesundheitstreff-tuwas.de
SUMMARY:TuWas!-Onlinevortrag: Meine Gelenke  – beweglich\, geschmiert und schmerzfrei Was kann ich tun?
DESCRIPTION:Vortrags-Inhalt:\n\nWas kann ich vorbeugend und bei Arthrose tun?\nWissen Sie\, dass alle Gelenksknorpel aus etwa 90 % Wasser bestehen?\nWas bedeutet das im Alltag? Was sind Schmiermittel für unsere Gelenke\nund wie kann ich diese in der täglichen Ernährung zu mir nehmen? \n\n\nEs ist wohltuend und befreiend\, auf dem Weg des Älterwerdens die Gelenke\nnicht zu spüren\, doch\, wehe\, wenn sie schmerzen…\nUnsere Gelenke sind die Verbindungen zwischen unseren Knochen. Durch die Gelenke\nsind wir beweglich\, elastisch. Wenn wir älter werden\, verändert sich unser Körper\, unsere\nKnochen\, auch die Gelenke. Es ist klug\, rechtzeitig mit der Pflege der Gelenke zu beginnen\, damit\nsie „wie geschmiert“ sind und es nicht knirscht.  \n\nIm Vortrag erfahren Sie unter anderem:\nWas sind wichtige Grundlagen gesunder Gelenke?\nWelche Rolle spielt die Ernährung? Worauf kommt es an?\nWas können Sie vorbeugend für gesunde Gelenke tun?\nWelche Bedeutung hat Bewegung?\nWie können Sie Arthrose vorbeugen?\nWas ist zu tun\, wenn sich Arthrose schmerzhaft zeigt? \n\nEntdecken Sie „Gelenke-Helferchen!“\nWir können immer etwas für die Gelenke tun\, egal wie „jung“ wir sind.\nHaben Sie schon eine neue Hüfte oder ein neues Knie?\nWie können Sie die anderen Gelenke gut gesund erhalten? \n\n\n\n\n Anleitung lesen »\n\n \n\n\n\n Ticket buchen »\n\n \n\n\n\n Ticket Übersicht »
URL:https://gesundheitstreff-tuwas.de/veranstaltungskalender/tuwas-onlinevortrag-meine-gelenke-beweglich-geschmiert-und-schmerzfrei-was-kann-ich-tun/
END:VEVENT
BEGIN:VEVENT
DTSTART;TZID=Europe/Berlin:20220914T190000
DTEND;TZID=Europe/Berlin:20220914T200000
DTSTAMP:20260423T013008
CREATED:20220530T151303Z
LAST-MODIFIED:20220530T151303Z
UID:13115-1663182000-1663185600@gesundheitstreff-tuwas.de
SUMMARY:WASSER2000-Onlinevortrag: Gesund und fit durch Wassertrinken!
DESCRIPTION:Vortrags-Inhalt:\nGesund und fit durch Wassertrinken! Kalkprobleme im Haushalt lösen! Wasser ist unser Lebensmittel Nr. 1! Warum ist dessen Vitalität und Lebendigkeit so wichtig für Ihr Wohlbefinden? Erfahren Sie\, wie das jahrzehntelang bewährte WASSER2000-System von NaturSinn Ihr Leitungswasser vitalisiert und ganz nebenbei sogar Kalkprobleme in Küche\, Bad und Haustechnik lösen kann. \nAnmeldung zum ZOOM-Meeting\nund Anleitung auf www.vortrag.wasser2000.de
URL:https://gesundheitstreff-tuwas.de/veranstaltungskalender/wasser2000-onlinevortrag-gesund-und-fit-durch-wassertrinken-8/
END:VEVENT
END:VCALENDAR