BEGIN:VCALENDAR
VERSION:2.0
PRODID:-//Gesundheitstreff TuWas! - ECPv6.15.11//NONSGML v1.0//EN
CALSCALE:GREGORIAN
METHOD:PUBLISH
X-WR-CALNAME:Gesundheitstreff TuWas!
X-ORIGINAL-URL:https://gesundheitstreff-tuwas.de
X-WR-CALDESC:Veranstaltungen für Gesundheitstreff TuWas!
REFRESH-INTERVAL;VALUE=DURATION:PT1H
X-Robots-Tag:noindex
X-PUBLISHED-TTL:PT1H
BEGIN:VTIMEZONE
TZID:Europe/Berlin
BEGIN:DAYLIGHT
TZOFFSETFROM:+0100
TZOFFSETTO:+0200
TZNAME:CEST
DTSTART:20220327T010000
END:DAYLIGHT
BEGIN:STANDARD
TZOFFSETFROM:+0200
TZOFFSETTO:+0100
TZNAME:CET
DTSTART:20221030T010000
END:STANDARD
BEGIN:DAYLIGHT
TZOFFSETFROM:+0100
TZOFFSETTO:+0200
TZNAME:CEST
DTSTART:20230326T010000
END:DAYLIGHT
BEGIN:STANDARD
TZOFFSETFROM:+0200
TZOFFSETTO:+0100
TZNAME:CET
DTSTART:20231029T010000
END:STANDARD
BEGIN:DAYLIGHT
TZOFFSETFROM:+0100
TZOFFSETTO:+0200
TZNAME:CEST
DTSTART:20240331T010000
END:DAYLIGHT
BEGIN:STANDARD
TZOFFSETFROM:+0200
TZOFFSETTO:+0100
TZNAME:CET
DTSTART:20241027T010000
END:STANDARD
END:VTIMEZONE
BEGIN:VEVENT
DTSTART;TZID=Europe/Berlin:20231111T150000
DTEND;TZID=Europe/Berlin:20231111T170000
DTSTAMP:20260422T070818
CREATED:20230909T232046Z
LAST-MODIFIED:20230909T232545Z
UID:13988-1699714800-1699722000@gesundheitstreff-tuwas.de
SUMMARY:KochImpuls-Nachmittag: Magen-Darmgesundheit – praktische Impulse und Genuss!
DESCRIPTION:THEMA: Magen-Darmgesundheit – praktische Impulse und Genuss! \nWie kann ich im Alltag das Bestmögliche für Magen-Darm tun? Womit beginne ich? Was ist besonders wichtig? Sie erlernen mein Schritt-Schritt Programm und das Setzen der Prioritäten. Wir kochen zum Wohle unseres Magen-Darmes\, probieren\, erkennen & freuen uns auf Gesundheits-Neuigkeiten. Wir besprechen seelische Zusammenhänge\, diese sind die Grundlagen. \n \n \n\n\n\nPreis: 35 € inkl. Essen\n\n\n\n Jetzt anmelden unter 07142 773452\n\n\n\nJetzt anmelden per E-Mail »
URL:https://gesundheitstreff-tuwas.de/veranstaltungskalender/kochimpuls-nachmittag-magen-darmgesundheit-praktische-impulse-und-genuss/
LOCATION:Gesundheitstreff TuWas!\, Bietigheimer Str. 16\, Ingersheim\, 74379\, Deutschland
END:VEVENT
BEGIN:VEVENT
DTSTART;TZID=Europe/Berlin:20231118T150000
DTEND;TZID=Europe/Berlin:20231118T170000
DTSTAMP:20260422T070818
CREATED:20230909T230736Z
LAST-MODIFIED:20231113T101748Z
UID:13981-1700319600-1700326800@gesundheitstreff-tuwas.de
SUMMARY:Seminar-Nachmittag:  Die Gesundheit beginnt im Magen und im Darm!
DESCRIPTION:THEMA: Die Gesundheit beginnt im Magen und im Darm! \nJe präziser der Magen verdaut und den gut vorbereiteten Nahrungsbrei an den Darm weiterleitet\, desto leichter kann der Darm verdauen. Jeder Darmabschnitt hat seine Aufgaben: Zwölffinger-\, Dünn-\, Dick- und Mastdarm\, alle arbeiten in höchster Präzision. Wir besprechen z.B. über Blähungen\, Völlegefühl\, Sodbrennen\, Reizdarm\, Verstopfung\, Durchfall\, Darmsanierung\, Enzyme\, seelische Zusammenhänge\, alles\, was zählt. \n \n \n\n\n\nPreis: 25 €\n\n\n\n Jetzt anmelden unter 07142 773452\n\n\n\nJetzt anmelden per E-Mail »
URL:https://gesundheitstreff-tuwas.de/veranstaltungskalender/seminar-nachmittag-die-gesundheit-beginnt-im-magen-und-im-darm/
LOCATION:Gesundheitstreff TuWas!\, Bietigheimer Str. 16\, Ingersheim\, 74379\, Deutschland
END:VEVENT
END:VCALENDAR