BEGIN:VCALENDAR
VERSION:2.0
PRODID:-//Gesundheitstreff TuWas! - ECPv6.15.11//NONSGML v1.0//EN
CALSCALE:GREGORIAN
METHOD:PUBLISH
X-WR-CALNAME:Gesundheitstreff TuWas!
X-ORIGINAL-URL:https://gesundheitstreff-tuwas.de
X-WR-CALDESC:Veranstaltungen für Gesundheitstreff TuWas!
REFRESH-INTERVAL;VALUE=DURATION:PT1H
X-Robots-Tag:noindex
X-PUBLISHED-TTL:PT1H
BEGIN:VTIMEZONE
TZID:Europe/Berlin
BEGIN:DAYLIGHT
TZOFFSETFROM:+0100
TZOFFSETTO:+0200
TZNAME:CEST
DTSTART:20250330T010000
END:DAYLIGHT
BEGIN:STANDARD
TZOFFSETFROM:+0200
TZOFFSETTO:+0100
TZNAME:CET
DTSTART:20251026T010000
END:STANDARD
BEGIN:DAYLIGHT
TZOFFSETFROM:+0100
TZOFFSETTO:+0200
TZNAME:CEST
DTSTART:20260329T010000
END:DAYLIGHT
BEGIN:STANDARD
TZOFFSETFROM:+0200
TZOFFSETTO:+0100
TZNAME:CET
DTSTART:20261025T010000
END:STANDARD
BEGIN:DAYLIGHT
TZOFFSETFROM:+0100
TZOFFSETTO:+0200
TZNAME:CEST
DTSTART:20270328T010000
END:DAYLIGHT
BEGIN:STANDARD
TZOFFSETFROM:+0200
TZOFFSETTO:+0100
TZNAME:CET
DTSTART:20271031T010000
END:STANDARD
END:VTIMEZONE
BEGIN:VEVENT
DTSTART;TZID=Europe/Berlin:20260506T190000
DTEND;TZID=Europe/Berlin:20260506T200000
DTSTAMP:20260422T141105
CREATED:20250716T153713Z
LAST-MODIFIED:20260420T202551Z
UID:15553-1778094000-1778097600@gesundheitstreff-tuwas.de
SUMMARY:Impuls-Vortrag im Mai:  TERRAPETRA – neue Energie für Ihre Pflanzen!
DESCRIPTION:Erleben Sie einen Impuls-Vortrag mit Petra Kaiserauer-Barth rund um das Thema: „TERRAPETRA – neue Energie für Ihre Pflanzen!“\n\n Neugierig? Dann ist es Zeit für TERRAPETRA – mit meinen Erfahrungen aus erster Hand. \nTERRAPETRA (fermentierte Schwarzerde)\, hergestellt aus Pferdeäpfeln von entspannten Ponys (Trailhaltung)\, effektiven Mikroorganismen (EM)\, Pflanzenkohle und Vulkangestein.Fermentierung und Vererdung sind besondere Veredelungsschritte.\n Was ist der Unterschied zur Kompostierung – und welcher Mehrwert entsteht dadurch für Pflanzen und Menschen?\nErfahren Sie das Zusammenspiel der Mikro-\norganismen und die Verbindung zu den Mayas.\n\n Mit großer Herzensfreude gibt Frau Kaiserauer-Barth ihre umfassenden Erfahrungen mit der fermentierten Schwarzerde TERRAPETRA an Sie weiter.  \n M Tun Sie sich und Ihren Pflanzen Gutes mit den fruchtbaren Erden von\nTERRAPETRA: Nach uralter Rezeptur werden Pferdeäpfel\, Pflanzenkohle\, Urgesteins-\nmehle und EM zu TERRAPETRA-Gartenerde fermentiert. Regenwürmer werden von ihr magisch angezogen\, und es entsteht der fruchtbare\, feinkrümelige\, geruchsfreie TERRAPETRA-Wurmhumus. Mit großer Begeisterung und Dankbarkeit darf ich diese wunderbaren Erden herstellen. Ich freue mich darauf\, Ihnen meine Erfahrungen vorzustellen. \n\n\n\n\n\n\n\nReferentin: Petra Kaiserauer-Barth\n(GINKGO – „Lehm macht glücklich“\, Raumausstattung – Lehmbau\, Fellbach)\n\n\nImpulsgebühr: 15 € (Wissensdurststiller inkl. Getränke und ein Pröbchen von TERRAPETRA)\n\n  \n\nSie möchten mehr über die Kraft der „TERRAPETRA“ erfahren?\nDann melden Sie sich jetzt an – wir freuen uns auf Sie! \n   Jetzt anmelden »  \n\n„Jetzt anmelden“ führt Sie zur Anmeldung für das GESUNDHEITS-TREFFEN!
URL:https://gesundheitstreff-tuwas.de/veranstaltungskalender/impuls-vortrag-im-mai-terrapetra/
LOCATION:Gesundheitstreff TuWas!\, Bietigheimer Str. 16\, Ingersheim\, 74379\, Deutschland
CATEGORIES:Impuls-Vortrag
ATTACH;FMTTYPE=image/jpeg:https://gesundheitstreff-tuwas.de/wp-content/uploads/2025/07/Impuls-Vortrag-Terrapetra.jpg
END:VEVENT
END:VCALENDAR